BEGIN:VCALENDAR
VERSION:2.0
PRODID:-//ABAMA - ECPv6.15.15//NONSGML v1.0//EN
CALSCALE:GREGORIAN
METHOD:PUBLISH
X-ORIGINAL-URL:https://abama.net
X-WR-CALDESC:Évènements pour ABAMA
REFRESH-INTERVAL;VALUE=DURATION:PT1H
X-Robots-Tag:noindex
X-PUBLISHED-TTL:PT1H
BEGIN:VTIMEZONE
TZID:Europe/Paris
BEGIN:DAYLIGHT
TZOFFSETFROM:+0100
TZOFFSETTO:+0200
TZNAME:CEST
DTSTART:20240331T010000
END:DAYLIGHT
BEGIN:STANDARD
TZOFFSETFROM:+0200
TZOFFSETTO:+0100
TZNAME:CET
DTSTART:20241027T010000
END:STANDARD
BEGIN:DAYLIGHT
TZOFFSETFROM:+0100
TZOFFSETTO:+0200
TZNAME:CEST
DTSTART:20250330T010000
END:DAYLIGHT
BEGIN:STANDARD
TZOFFSETFROM:+0200
TZOFFSETTO:+0100
TZNAME:CET
DTSTART:20251026T010000
END:STANDARD
BEGIN:DAYLIGHT
TZOFFSETFROM:+0100
TZOFFSETTO:+0200
TZNAME:CEST
DTSTART:20260329T010000
END:DAYLIGHT
BEGIN:STANDARD
TZOFFSETFROM:+0200
TZOFFSETTO:+0100
TZNAME:CET
DTSTART:20261025T010000
END:STANDARD
END:VTIMEZONE
BEGIN:VEVENT
DTSTART;TZID=Europe/Paris:20250925T090000
DTEND;TZID=Europe/Paris:20250925T110000
DTSTAMP:20260421T074306
CREATED:20250906T092233Z
LAST-MODIFIED:20250906T092233Z
UID:32153-1758790800-1758798000@abama.net
SUMMARY:Médiation animale avec Cœur Papillon
DESCRIPTION:👶 Matinées récréatives \n📅 Tous les jeudis (en période scolaire)\n🕘 De 9h à 11h\n👦 Pour les 0 – 3 ans\, accompagnés d’un adulte\n💰 Tarif : 3 € (intervenante + petit goûter inclus) \n📩 Infos & inscriptions auprès de Mélanie : 06 48 14 49 68 \nAurélie propose des moments uniques de médiation animale pour les tout-petits.\nSelon les séances\, elle vient accompagnée de ses adorables compagnons : \n\n🐇 Lapins tout doux\n🐹 Cochons d’Inde câlins\n🦜 Un perroquet haut en couleurs\n\nCes ateliers permettent aux enfants de découvrir\, observer\, caresser et partager un moment de tendresse avec les animaux\, tout en développant l’éveil\, la confiance et l’empathie.\n👉 Une expérience douce et enrichissante\, spécialement adaptée aux plus petits.
URL:https://abama.net/calendrier/mediation-animale-avec-coeur-papillon/
CATEGORIES:Atelier
ATTACH;FMTTYPE=image/png:https://abama.net/wp-content/uploads/2025/09/4.png
END:VEVENT
END:VCALENDAR