BEGIN:VCALENDAR
VERSION:2.0
PRODID:-//ABAMA - ECPv6.15.15//NONSGML v1.0//EN
CALSCALE:GREGORIAN
METHOD:PUBLISH
X-WR-CALNAME:ABAMA
X-ORIGINAL-URL:https://abama.net
X-WR-CALDESC:Évènements pour ABAMA
REFRESH-INTERVAL;VALUE=DURATION:PT1H
X-Robots-Tag:noindex
X-PUBLISHED-TTL:PT1H
BEGIN:VTIMEZONE
TZID:Europe/Paris
BEGIN:DAYLIGHT
TZOFFSETFROM:+0100
TZOFFSETTO:+0200
TZNAME:CEST
DTSTART:20240331T010000
END:DAYLIGHT
BEGIN:STANDARD
TZOFFSETFROM:+0200
TZOFFSETTO:+0100
TZNAME:CET
DTSTART:20241027T010000
END:STANDARD
BEGIN:DAYLIGHT
TZOFFSETFROM:+0100
TZOFFSETTO:+0200
TZNAME:CEST
DTSTART:20250330T010000
END:DAYLIGHT
BEGIN:STANDARD
TZOFFSETFROM:+0200
TZOFFSETTO:+0100
TZNAME:CET
DTSTART:20251026T010000
END:STANDARD
BEGIN:DAYLIGHT
TZOFFSETFROM:+0100
TZOFFSETTO:+0200
TZNAME:CEST
DTSTART:20260329T010000
END:DAYLIGHT
BEGIN:STANDARD
TZOFFSETFROM:+0200
TZOFFSETTO:+0100
TZNAME:CET
DTSTART:20261025T010000
END:STANDARD
END:VTIMEZONE
BEGIN:VEVENT
DTSTART;TZID=Europe/Paris:20251016T090000
DTEND;TZID=Europe/Paris:20251016T110000
DTSTAMP:20260421T054338
CREATED:20250906T093440Z
LAST-MODIFIED:20250906T093440Z
UID:32169-1760605200-1760612400@abama.net
SUMMARY:Atelier d’Alexia
DESCRIPTION:👶 Matinées récréatives \n📅 Tous les jeudis (en période scolaire)\n🕘 De 9h à 11h\n👦 Pour les 0 – 3 ans\, accompagnés d’un adulte\n💰 Tarif : 3 € (intervenante + petit goûter inclus) \n📩 Infos & inscriptions auprès de Mélanie : 06 48 14 49 68 \nAlexia propose un moment créatif et ludique spécialement pensé pour les tout-petits.\nAu programme\, selon les semaines : \n\n🖌️ Bricolage : manipuler\, créer\, découvrir de nouvelles matières.\n🍪 Atelier cuisine : mettre la main à la pâte et éveiller les papilles.\n💃 Danse bambin : bouger en musique\, développer le rythme et la motricité.\n\nL’activité de la semaine est communiquée à l’avance.\n👉 Quel que soit l’atelier\, tout est adapté aux plus petits pour leur permettre de s’amuser\, expérimenter et grandir en douceur.
URL:https://abama.net/calendrier/atelier-dalexia-2/
CATEGORIES:Atelier
ATTACH;FMTTYPE=image/png:https://abama.net/wp-content/uploads/2025/09/7.png
END:VEVENT
END:VCALENDAR