BEGIN:VCALENDAR
VERSION:2.0
PRODID:-//ABAMA - ECPv6.15.15//NONSGML v1.0//EN
CALSCALE:GREGORIAN
METHOD:PUBLISH
X-ORIGINAL-URL:https://abama.net
X-WR-CALDESC:Évènements pour ABAMA
REFRESH-INTERVAL;VALUE=DURATION:PT1H
X-Robots-Tag:noindex
X-PUBLISHED-TTL:PT1H
BEGIN:VTIMEZONE
TZID:Europe/Paris
BEGIN:DAYLIGHT
TZOFFSETFROM:+0100
TZOFFSETTO:+0200
TZNAME:CEST
DTSTART:20250330T010000
END:DAYLIGHT
BEGIN:STANDARD
TZOFFSETFROM:+0200
TZOFFSETTO:+0100
TZNAME:CET
DTSTART:20251026T010000
END:STANDARD
BEGIN:DAYLIGHT
TZOFFSETFROM:+0100
TZOFFSETTO:+0200
TZNAME:CEST
DTSTART:20260329T010000
END:DAYLIGHT
BEGIN:STANDARD
TZOFFSETFROM:+0200
TZOFFSETTO:+0100
TZNAME:CET
DTSTART:20261025T010000
END:STANDARD
BEGIN:DAYLIGHT
TZOFFSETFROM:+0100
TZOFFSETTO:+0200
TZNAME:CEST
DTSTART:20270328T010000
END:DAYLIGHT
BEGIN:STANDARD
TZOFFSETFROM:+0200
TZOFFSETTO:+0100
TZNAME:CET
DTSTART:20271031T010000
END:STANDARD
END:VTIMEZONE
BEGIN:VEVENT
DTSTART;TZID=Europe/Paris:20260122T090000
DTEND;TZID=Europe/Paris:20260122T110000
DTSTAMP:20260421T060811
CREATED:20260117T102732Z
LAST-MODIFIED:20260117T102732Z
UID:32195-1769072400-1769079600@abama.net
SUMMARY:Atelier Bricolage d’Hiver avec Mélanie
DESCRIPTION:👶 Matinées récréatives \n📅 Tous les jeudis (en période scolaire)\n🕘 De 9h à 11h\n👦 Pour les 0 – 3 ans\, accompagnés d’un adulte\n💰 Tarif : 3 € (intervenante + petit goûter inclus) \n📩 Infos & inscriptions auprès de Mélanie : 06 48 14 49 68 \n✨ Au programme : Rejoignez Mélanie pour un moment créatif et chaleureux autour du bricolage d’hiver ! 🧤✨Un atelier parfait pour laisser libre cours à votre imagination tout en partageant un moment convivial.
URL:https://abama.net/calendrier/atelier-bricolage-dhiver-avec-melanie/
CATEGORIES:Atelier
ATTACH;FMTTYPE=image/png:https://abama.net/wp-content/uploads/2026/01/22-01.png
END:VEVENT
BEGIN:VEVENT
DTSTART;TZID=Europe/Paris:20260129T090000
DTEND;TZID=Europe/Paris:20260129T090000
DTSTAMP:20260421T060811
CREATED:20260117T102925Z
LAST-MODIFIED:20260117T102925Z
UID:32197-1769677200-1769677200@abama.net
SUMMARY:Eveil corporel avec Alexia
DESCRIPTION:👶 Matinées récréatives \n📅 Tous les jeudis (en période scolaire)\n🕘 De 9h à 11h\n👦 Pour les 0 – 3 ans\, accompagnés d’un adulte\n💰 Tarif : 3 € (intervenante + petit goûter inclus) \n📩 Infos & inscriptions auprès de Mélanie : 06 48 14 49 68 \nAu programme : 💃 Danse bambin : bouger en musique\, développer le rythme et la motricité.
URL:https://abama.net/calendrier/eveil-corporel-avec-alexia/
CATEGORIES:Atelier
ATTACH;FMTTYPE=image/png:https://abama.net/wp-content/uploads/2026/01/29-01.png
END:VEVENT
END:VCALENDAR