BEGIN:VCALENDAR
VERSION:2.0
PRODID:-//ABAMA - ECPv6.15.15//NONSGML v1.0//EN
CALSCALE:GREGORIAN
METHOD:PUBLISH
X-WR-CALNAME:ABAMA
X-ORIGINAL-URL:https://abama.net
X-WR-CALDESC:Évènements pour ABAMA
REFRESH-INTERVAL;VALUE=DURATION:PT1H
X-Robots-Tag:noindex
X-PUBLISHED-TTL:PT1H
BEGIN:VTIMEZONE
TZID:Europe/Paris
BEGIN:DAYLIGHT
TZOFFSETFROM:+0100
TZOFFSETTO:+0200
TZNAME:CEST
DTSTART:20250330T010000
END:DAYLIGHT
BEGIN:STANDARD
TZOFFSETFROM:+0200
TZOFFSETTO:+0100
TZNAME:CET
DTSTART:20251026T010000
END:STANDARD
BEGIN:DAYLIGHT
TZOFFSETFROM:+0100
TZOFFSETTO:+0200
TZNAME:CEST
DTSTART:20260329T010000
END:DAYLIGHT
BEGIN:STANDARD
TZOFFSETFROM:+0200
TZOFFSETTO:+0100
TZNAME:CET
DTSTART:20261025T010000
END:STANDARD
BEGIN:DAYLIGHT
TZOFFSETFROM:+0100
TZOFFSETTO:+0200
TZNAME:CEST
DTSTART:20270328T010000
END:DAYLIGHT
BEGIN:STANDARD
TZOFFSETFROM:+0200
TZOFFSETTO:+0100
TZNAME:CET
DTSTART:20271031T010000
END:STANDARD
END:VTIMEZONE
BEGIN:VEVENT
DTSTART;TZID=Europe/Paris:20260305T090000
DTEND;TZID=Europe/Paris:20260305T110000
DTSTAMP:20260420T173022
CREATED:20260305T115752Z
LAST-MODIFIED:20260305T115752Z
UID:32330-1772701200-1772708400@abama.net
SUMMARY:Baby gym avec Kelly
DESCRIPTION:👶 Matinées récréatives \n📅 Tous les jeudis (en période scolaire)\n🕘 De 9h à 11h\n👦 Pour les 0 – 3 ans\, accompagnés d’un adulte\n💰 Tarif : 3 € (intervenante + petit goûter inclus) \n📩 Infos & inscriptions auprès de Mélanie : 06 48 14 49 68 \n✨ Au programme : Baby gym avec Kelly !\nUne activité ludique pour découvrir la motricité\, s’amuser et partager un moment convivial entre petits et grands
URL:https://abama.net/calendrier/baby-gym-avec-kelly/
CATEGORIES:Atelier
ATTACH;FMTTYPE=image/png:https://abama.net/wp-content/uploads/2026/03/0503.png
END:VEVENT
BEGIN:VEVENT
DTSTART;TZID=Europe/Paris:20260312T090000
DTEND;TZID=Europe/Paris:20260312T110000
DTSTAMP:20260420T173022
CREATED:20260305T120454Z
LAST-MODIFIED:20260305T120454Z
UID:32346-1773306000-1773313200@abama.net
SUMMARY:Atelier Sophro-Yoga La bulle des émotions pour les Boutchoux avec Audrey
DESCRIPTION:👶 Matinées récréatives \n📅 Tous les jeudis (en période scolaire)\n🕘 De 9h à 11h\n👦 Pour les 0 – 3 ans\, accompagnés d’un adulte\n💰 Tarif : 3 € (intervenante + petit goûter inclus) \n📩 Infos & inscriptions auprès de Mélanie : 06 48 14 49 68 \nOffrez à votre enfant un moment de détente et d’éveil grâce à la sophrologie et au yoga ! 🌈👶 \nAvec Audrey\, découvrez un atelier d’éveil sensoriel spécialement conçu pour les enfants de 0 à 3 ans. Par des jeux de respiration\, des mouvements doux et des moments de relaxation\, votre enfant pourra explorer ses émotions\, les exprimer\, apaiser ses tensions et développer son bien-être tout en s’amusant ! 💖 \n💆‍♂️ Au programme :\n🌟 Jeux de respiration et de détente adaptés aux tout-petits\n🌟 Découverte du corps et des émotions à travers des exercices ludiques\n🌟 Moments de douceur et de partage en famille \nUn moment de zenitude et de complicité à partager avec votre enfant ! 🌸💫
URL:https://abama.net/calendrier/atelier-sophro-yoga-la-bulle-des-emotions-pour-les-boutchoux-avec-audrey-5/
CATEGORIES:Atelier
ATTACH;FMTTYPE=image/png:https://abama.net/wp-content/uploads/2026/03/0903-1.png
END:VEVENT
BEGIN:VEVENT
DTSTART;TZID=Europe/Paris:20260319T090000
DTEND;TZID=Europe/Paris:20260319T110000
DTSTAMP:20260420T173022
CREATED:20260305T121123Z
LAST-MODIFIED:20260305T121123Z
UID:32359-1773910800-1773918000@abama.net
SUMMARY:Atelier bricolage de Pâques avec Mélanie
DESCRIPTION:👶 Matinées récréatives \n📅 Tous les jeudis (en période scolaire)\n🕘 De 9h à 11h\n👦 Pour les 0 – 3 ans\, accompagnés d’un adulte\n💰 Tarif : 3 € (intervenante + petit goûter inclus) \n📩 Infos & inscriptions auprès de Mélanie : 06 48 14 49 68 \n✨ Au programme : Rejoignez Mélanie pour un moment créatif et chaleureux autour du bricolage de Pâques! Un atelier parfait pour laisser libre cours à votre imagination tout en partageant un moment convivial.
URL:https://abama.net/calendrier/atelier-bricolage-de-paques-avec-melanie/
CATEGORIES:Atelier
ATTACH;FMTTYPE=image/png:https://abama.net/wp-content/uploads/2026/03/1903.png
END:VEVENT
BEGIN:VEVENT
DTSTART;TZID=Europe/Paris:20260326T090000
DTEND;TZID=Europe/Paris:20260326T110000
DTSTAMP:20260420T173022
CREATED:20260305T121238Z
LAST-MODIFIED:20260305T121238Z
UID:32362-1774515600-1774522800@abama.net
SUMMARY:Atelier avec Alexia
DESCRIPTION:👶 Matinées récréatives \n📅 Tous les jeudis (en période scolaire)\n🕘 De 9h à 11h\n👦 Pour les 0 – 3 ans\, accompagnés d’un adulte\n💰 Tarif : 3 € (intervenante + petit goûter inclus) \n📩 Infos & inscriptions auprès de Mélanie : 06 48 14 49 68 \nAlexia propose un moment créatif et ludique spécialement pensé pour les tout-petits.\nAu programme\, selon les semaines : \n\n🖌️ Bricolage : manipuler\, créer\, découvrir de nouvelles matières.\n🍪 Atelier cuisine : mettre la main à la pâte et éveiller les papilles.\n💃 Danse bambin : bouger en musique\, développer le rythme et la motricité.\n\nL’activité de la semaine est communiquée à l’avance.\n👉 Quel que soit l’atelier\, tout est adapté aux plus petits pour leur permettre de s’amuser\, expérimenter et grandir en douceur.
URL:https://abama.net/calendrier/atelier-avec-alexia/
CATEGORIES:Atelier
ATTACH;FMTTYPE=image/png:https://abama.net/wp-content/uploads/2026/03/2603.png
END:VEVENT
END:VCALENDAR